BEGIN:VCALENDAR
VERSION:2.0
PRODID:icalendar-ruby
CALSCALE:GREGORIAN
METHOD:PUBLISH
BEGIN:VEVENT
DTSTAMP:20260419T125506Z
UID:47-380420@nlccliberty.com
DTSTART:20260329T144500Z
DTEND:20260329T160000Z
CLASS:PUBLIC
CREATED:20260214T190108
DESCRIPTION:Join us in waving palm branches in celebration of Christ's entr
 y into Jerusalem. \nThis is one of our favorite services of the year!\nSe
 rvice starts @ 10:45 AM\nAll are welcome \n 
LAST-MODIFIED:20260214T190108
LOCATION:
SUMMARY:Palm Sunday
URL;VALUE=URI:https://www.nlccliberty.com/events/palm-sunday/2026-03-29
ATTACH;FILENAME=Palm-Sunday-Advertisement.png;FMTTYPE=image/png:https://dq5
 pwpg1q8ru0.cloudfront.net/2026/02/15/00/01/07/45f656a9-31f3-4164-997b-0b4d
 bd791254/Palm-Sunday-Advertisement.png
END:VEVENT
END:VCALENDAR
